Workbook
Name Hankintakausi: Hankintakausi!$A$2:$A$13
Name KOMluokka: KOM_luokat!$A$2:$A$41
Name kustannuspaikka_id: Kustannuspaikka!$B$2:$B$242
Name Kustannuspaikka_nimi: Kustannuspaikka!$A$2:$A$242
Name Tulosyksikkö: Tulosyksikkö!$A$2:$A$116

Sheet KOM_HANKINNAT
A1: Kustannuspaikan nimi | B1: Kustannuspaikan numero | C1: Tulosyksikön nimi | D1: Tulosyksikön numero | E1: Käyttöomaisuusluokka | F1: Käyttöomaisuusluokan numero | G1: Hankintakausi | H1: Hankintahinta € | I1: Investointiavustus € | J1: Selite
B2: =IF(ISNA(VLOOKUP(A2,Kustannuspaikka!$A$2:$B$242,2,FALSE)),"",(VLOOKUP(A2,Kustannuspaikka!$A$2:$B$242,2,FALSE))) | C2: =IF(ISNA(VLOOKUP(D2,Tulosyksikkö!$B$2:$C$116,2,FALSE)),"",(VLOOKUP(D2,Tulosyksikkö!$B$2:$C$116,2,FALSE))) | D2: =IF(ISNA(VLOOKUP(B2,KUP_ja_TUY!B2:C242,2,FALSE)),"",(VLOOKUP(B2,KUP_ja_TUY!B2:C242,2,FALSE))) | F2: =IF(ISNA(VLOOKUP(E2,KOM_luokat!$A$2:$B$41,2,FALSE)),"",(VLOOKUP(E2,KOM_luokat!$A$2:$B$41,2,FALSE)))
B3: =IF(ISNA(VLOOKUP(A3,Kustannuspaikka!$A$2:$B$242,2,FALSE)),"",(VLOOKUP(A3,Kustannuspaikka!$A$2:$B$242,2,FALSE))) | C3: =IF(ISNA(VLOOKUP(D3,Tulosyksikkö!$B$2:$C$116,2,FALSE)),"",(VLOOKUP(D3,Tulosyksikkö!$B$2:$C$116,2,FALSE))) | D3: =IF(ISNA(VLOOKUP(B3,KUP_ja_TUY!B3:C243,2,FALSE)),"",(VLOOKUP(B3,KUP_ja_TUY!B3:C243,2,FALSE))) | F3: =IF(ISNA(VLOOKUP(E3,KOM_luokat!$A$2:$B$41,2,FALSE)),"",(VLOOKUP(E3,KOM_luokat!$A$2:$B$41,2,FALSE)))
B4: =IF(ISNA(VLOOKUP(A4,Kustannuspaikka!$A$2:$B$242,2,FALSE)),"",(VLOOKUP(A4,Kustannuspaikka!$A$2:$B$242,2,FALSE))) | C4: =IF(ISNA(VLOOKUP(D4,Tulosyksikkö!$B$2:$C$116,2,FALSE)),"",(VLOOKUP(D4,Tulosyksikkö!$B$2:$C$116,2,FALSE))) | D4: =IF(ISNA(VLOOKUP(B4,KUP_ja_TUY!B4:C244,2,FALSE)),"",(VLOOKUP(B4,KUP_ja_TUY!B4:C244,2,FALSE))) | F4: =IF(ISNA(VLOOKUP(E4,KOM_luokat!$A$2:$B$41,2,FALSE)),"",(VLOOKUP(E4,KOM_luokat!$A$2:$B$41,2,FALSE)))
B5: =IF(ISNA(VLOOKUP(A5,Kustannuspaikka!$A$2:$B$242,2,FALSE)),"",(VLOOKUP(A5,Kustannuspaikka!$A$2:$B$242,2,FALSE))) | C5: =IF(ISNA(VLOOKUP(D5,Tulosyksikkö!$B$2:$C$116,2,FALSE)),"",(VLOOKUP(D5,Tulosyksikkö!$B$2:$C$116,2,FALSE))) | D5: =IF(ISNA(VLOOKUP(B5,KUP_ja_TUY!B5:C245,2,FALSE)),"",(VLOOKUP(B5,KUP_ja_TUY!B5:C245,2,FALSE))) | F5: =IF(ISNA(VLOOKUP(E5,KOM_luokat!$A$2:$B$41,2,FALSE)),"",(VLOOKUP(E5,KOM_luokat!$A$2:$B$41,2,FALSE)))
B6: =IF(ISNA(VLOOKUP(A6,Kustannuspaikka!$A$2:$B$242,2,FALSE)),"",(VLOOKUP(A6,Kustannuspaikka!$A$2:$B$242,2,FALSE))) | C6: =IF(ISNA(VLOOKUP(D6,Tulosyksikkö!$B$2:$C$116,2,FALSE)),"",(VLOOKUP(D6,Tulosyksikkö!$B$2:$C$116,2,FALSE))) | D6: =IF(ISNA(VLOOKUP(B6,KUP_ja_TUY!B6:C246,2,FALSE)),"",(VLOOKUP(B6,KUP_ja_TUY!B6:C246,2,FALSE))) | F6: =IF(ISNA(VLOOKUP(E6,KOM_luokat!$A$2:$B$41,2,FALSE)),"",(VLOOKUP(E6,KOM_luokat!$A$2:$B$41,2,FALSE)))
B7: =IF(ISNA(VLOOKUP(A7,Kustannuspaikka!$A$2:$B$242,2,FALSE)),"",(VLOOKUP(A7,Kustannuspaikka!$A$2:$B$242,2,FALSE))) | C7: =IF(ISNA(VLOOKUP(D7,Tulosyksikkö!$B$2:$C$116,2,FALSE)),"",(VLOOKUP(D7,Tulosyksikkö!$B$2:$C$116,2,FALSE))) | D7: =IF(ISNA(VLOOKUP(B7,KUP_ja_TUY!B7:C247,2,FALSE)),"",(VLOOKUP(B7,KUP_ja_TUY!B7:C247,2,FALSE))) | F7: =IF(ISNA(VLOOKUP(E7,KOM_luokat!$A$2:$B$41,2,FALSE)),"",(VLOOKUP(E7,KOM_luokat!$A$2:$B$41,2,FALSE)))
B8: =IF(ISNA(VLOOKUP(A8,Kustannuspaikka!$A$2:$B$242,2,FALSE)),"",(VLOOKUP(A8,Kustannuspaikka!$A$2:$B$242,2,FALSE))) | C8: =IF(ISNA(VLOOKUP(D8,Tulosyksikkö!$B$2:$C$116,2,FALSE)),"",(VLOOKUP(D8,Tulosyksikkö!$B$2:$C$116,2,FALSE))) | D8: =IF(ISNA(VLOOKUP(B8,KUP_ja_TUY!B8:C248,2,FALSE)),"",(VLOOKUP(B8,KUP_ja_TUY!B8:C248,2,FALSE))) | F8: =IF(ISNA(VLOOKUP(E8,KOM_luokat!$A$2:$B$41,2,FALSE)),"",(VLOOKUP(E8,KOM_luokat!$A$2:$B$41,2,FALSE)))
B9: =IF(ISNA(VLOOKUP(A9,Kustannuspaikka!$A$2:$B$242,2,FALSE)),"",(VLOOKUP(A9,Kustannuspaikka!$A$2:$B$242,2,FALSE))) | C9: =IF(ISNA(VLOOKUP(D9,Tulosyksikkö!$B$2:$C$116,2,FALSE)),"",(VLOOKUP(D9,Tulosyksikkö!$B$2:$C$116,2,FALSE))) | D9: =IF(ISNA(VLOOKUP(B9,KUP_ja_TUY!B9:C249,2,FALSE)),"",(VLOOKUP(B9,KUP_ja_TUY!B9:C249,2,FALSE))) | F9: =IF(ISNA(VLOOKUP(E9,KOM_luokat!$A$2:$B$41,2,FALSE)),"",(VLOOKUP(E9,KOM_luokat!$A$2:$B$41,2,FALSE)))
B10: =IF(ISNA(VLOOKUP(A10,Kustannuspaikka!$A$2:$B$242,2,FALSE)),"",(VLOOKUP(A10,Kustannuspaikka!$A$2:$B$242,2,FALSE))) | C10: =IF(ISNA(VLOOKUP(D10,Tulosyksikkö!$B$2:$C$116,2,FALSE)),"",(VLOOKUP(D10,Tulosyksikkö!$B$2:$C$116,2,FALSE))) | D10: =IF(ISNA(VLOOKUP(B10,KUP_ja_TUY!B10:C250,2,FALSE)),"",(VLOOKUP(B10,KUP_ja_TUY!B10:C250,2,FALSE))) | F10: =IF(ISNA(VLOOKUP(E10,KOM_luokat!$A$2:$B$41,2,FALSE)),"",(VLOOKUP(E10,KOM_luokat!$A$2:$B$41,2,FALSE)))
B11: =IF(ISNA(VLOOKUP(A11,Kustannuspaikka!$A$2:$B$242,2,FALSE)),"",(VLOOKUP(A11,Kustannuspaikka!$A$2:$B$242,2,FALSE))) | C11: =IF(ISNA(VLOOKUP(D11,Tulosyksikkö!$B$2:$C$116,2,FALSE)),"",(VLOOKUP(D11,Tulosyksikkö!$B$2:$C$116,2,FALSE))) | D11: =IF(ISNA(VLOOKUP(B11,KUP_ja_TUY!B11:C251,2,FALSE)),"",(VLOOKUP(B11,KUP_ja_TUY!B11:C251,2,FALSE))) | F11: =IF(ISNA(VLOOKUP(E11,KOM_luokat!$A$2:$B$41,2,FALSE)),"",(VLOOKUP(E11,KOM_luokat!$A$2:$B$41,2,FALSE)))
B12: =IF(ISNA(VLOOKUP(A12,Kustannuspaikka!$A$2:$B$242,2,FALSE)),"",(VLOOKUP(A12,Kustannuspaikka!$A$2:$B$242,2,FALSE))) | C12: =IF(ISNA(VLOOKUP(D12,Tulosyksikkö!$B$2:$C$116,2,FALSE)),"",(VLOOKUP(D12,Tulosyksikkö!$B$2:$C$116,2,FALSE))) | D12: =IF(ISNA(VLOOKUP(B12,KUP_ja_TUY!B12:C252,2,FALSE)),"",(VLOOKUP(B12,KUP_ja_TUY!B12:C252,2,FALSE))) | F12: =IF(ISNA(VLOOKUP(E12,KOM_luokat!$A$2:$B$41,2,FALSE)),"",(VLOOKUP(E12,KOM_luokat!$A$2:$B$41,2,FALSE)))
B13: =IF(ISNA(VLOOKUP(A13,Kustannuspaikka!$A$2:$B$242,2,FALSE)),"",(VLOOKUP(A13,Kustannuspaikka!$A$2:$B$242,2,FALSE))) | C13: =IF(ISNA(VLOOKUP(D13,Tulosyksikkö!$B$2:$C$116,2,FALSE)),"",(VLOOKUP(D13,Tulosyksikkö!$B$2:$C$116,2,FALSE))) | D13: =IF(ISNA(VLOOKUP(B13,KUP_ja_TUY!B13:C253,2,FALSE)),"",(VLOOKUP(B13,KUP_ja_TUY!B13:C253,2,FALSE))) | F13: =IF(ISNA(VLOOKUP(E13,KOM_luokat!$A$2:$B$41,2,FALSE)),"",(VLOOKUP(E13,KOM_luokat!$A$2:$B$41,2,FALSE)))
... B100: =IF(ISNA(VLOOKUP(A100,Kustannuspaikka!$A$2:$B$242,2,FALSE)),"",(VLOOKUP(A100,Kustannuspaikka!$A$2:$B$242,2,FALSE))) | C100: =IF(ISNA(VLOOKUP(D100,Tulosyksikkö!$B$2:$C$116,2,FALSE)),"",(VLOOKUP(D100,Tulosyksikkö!$B$2:$C$116,2,FALSE))) | D100: =IF(ISNA(VLOOKUP(B100,KUP_ja_TUY!B100:C340,2,FALSE)),"",(VLOOKUP(B100,KUP_ja_TUY!B100:C340,2,FALSE))) | F100: =IF(ISNA(VLOOKUP(E100,KOM_luokat!$A$2:$B$41,2,FALSE)),"",(VLOOKUP(E100,KOM_luokat!$A$2:$B$41,2,FALSE)))

Sheet KOM_luokat
A1: KOM-luokka_nimi | B1: KOM-luokka_id | C1: Tasetili_nimi | D1: Tasetili_id | E1: poistoaika | F1: pääluokka
A2: Tutkimus- ja kehittämismenot | B2: 101000 | C2: Tutkimus- ja kehittämismenot | D2: 101000 | E2: 5 | F2: Aineettomat hyödykkeet
A3: Perustamis- ja järjestelymenot | B3: 101020 | C3: Perustamis- ja järjestelymenot | D3: 101020 | E3: 5 | F3: Aineettomat hyödykkeet
A4: Patenttioikeudet | B4: 101100 | C4: Patentit ja vastaavat oikeudet | D4: 101100 | E4: 5 | F4: Aineettomat hyödykkeet
A5: Tekijänoikeudet | B5: 101105 | C5: Patentit ja vastaavat oikeudet | D5: 101100 | E5: 5 | F5: Aineettomat hyödykkeet
A6: Lisenssit | B6: 101120 | C6: Lisenssit | D6: 101120 | E6: 5 | F6: Aineettomat hyödykkeet
A7: Ostetut atk-ohjelmat | B7: 101150 | C7: Tietokoneohjelmat | D7: 101150 | E7: 4 | F7: Aineettomat hyödykkeet
A8: Muut aineettomat oikeudet | B8: 101170 | C8: Muut aineettomat oikeudet | D8: 101170 | E8: 5 | F8: Aineettomat hyödykkeet
A9: Liittymismaksut | B9: 101175 | C9: Muut aineettomat oikeudet | D9: 101170 | E9: 5 | F9: Aineettomat hyödykkeet
A10: Museoesineet ja -kokoelmat | B10: 101200 | C10: Museoesineet ja -kokoelmat | D10: 101200 | E10: ei poistoa | F10: Aineettomat hyödykkeet
A11: Muut pitkävaikutteiset menot | B11: 101210 | C11: Muut pitkävaikutteiset menot | D11: 101210 | E11: 4 | F11: Aineettomat hyödykkeet
A12: Itsevalmistetut ja teetetyt ATK-ohjelmistot | B12: 101215 | C12: Muut pitkävaikutteiset menot | D12: 101210 | E12: 4 | F12: Aineettomat hyödykkeet
A13: Keskeneräinen aineeton käyttöomaisuus | B13: 101300 | C13: Keskeneräinen aineeton käyttöomaisuus | D13: 101300 | E13: ei poistoa | F13: Aineettomat hyödykkeet
A14: Maa- ja vesialueet | B14: 101400 | C14: Maa- ja vesialueet | D14: 101400 | E14: ei poistoa | F14: Aineelliset hyödykkeet
A15: Asuinrakennukset | B15: 101500 | C15: Rakennukset | D15: 101500 | E15: 30 | F15: Aineelliset hyödykkeet
A16: Toimistorakennukset | B16: 101505 | C16: Rakennukset | D16: 101500 | E16: 20 | F16: Aineelliset hyödykkeet
A17: Varastorakennukset | B17: 101510 | C17: Rakennukset | D17: 101500 | E17: 10 | F17: Aineelliset hyödykkeet
A18: Muut rakennukset | B18: 101515 | C18: Rakennukset | D18: 101500 | E18: 20 | F18: Aineelliset hyödykkeet
A19: Rakennusten koneet ja laitteet | B19: 101520 | C19: Rakennukset | D19: 101500 | E19: 5 | F19: Aineelliset hyödykkeet
A20: Rakennelmat | B20: 101600 | C20: Rakennelmat | D20: 101600 | E20: 10 | F20: Aineelliset hyödykkeet
A21: Autot ja muut maakuljetusvälineet | B21: 101700 | C21: Koneet ja laitteet | D21: 101700 | E21: 5 | F21: Aineelliset hyödykkeet
A22: Laivat ja muut vesikuljetusvälineet | B22: 101705 | C22: Koneet ja laitteet | D22: 101700 | E22: 5 | F22: Aineelliset hyödykkeet
A23: Raskaat työkoneet | B23: 101710 | C23: Koneet ja laitteet | D23: 101700 | E23: 15 | F23: Aineelliset hyödykkeet
A24: Kevyet työkoneet | B24: 101715 | C24: Koneet ja laitteet | D24: 101700 | E24: 5 | F24: Aineelliset hyödykkeet
A25: ATK-laitteet ja niiden oheislaitteet | B25: 101720 | C25: Koneet ja laitteet | D25: 101700 | E25: 4 | F25: Aineelliset hyödykkeet
A26: Toimistokoneet ja -laitteet | B26: 101725 | C26: Koneet ja laitteet | D26: 101700 | E26: 5 | F26: Aineelliset hyödykkeet
... A34: Muut aineelliset hyödykkeet | B34: 101900 | C34: Muut aineelliset hyödykkeet | D34: 101900 | E34: 5 | F34: Aineelliset hyödykkeet
A35: Taide-esineet | B35: 101920 | C35: Taide-esineet | D35: 101920 | E35: ei poistoja | F35: Aineelliset hyödykkeet
A36: Keskeneräinen aineellinen käyttöomaisuus | B36: 101950 | C36: Keskeneräinen aineellinen käyttöomaisuus | D36: 101950 | E36: ei poistoja | F36: Aineelliset hyödykkeet
A37: Konsernin osakkeet ja osuudet | B37: 102000 | C37: Konsernin osakkeet ja osuudet | D37: 102000 | E37: ei poistoja | F37: Sijoitukset
A38: Omistusyhteisyritysten osakkeet ja osuudet | B38: 102100 | C38: Omistusyhteisyritysten osakkeet ja osuudet | D38: 102100 | E38: ei poistoja | F38: Sijoitukset
A39: Muut osakkeet ja osuudet | B39: 102200 | C39: Muut osakkeet ja osuudet | D39: 102200 | E39: ei poistoja | F39: Sijoitukset
A40: Kiinteistöyhtiöosakkeet | B40: 102210 | C40: Kiinteistöyhtiöosakkeet | D40: 102210 | E40: ei poistoja | F40: Sijoitukset
A41: Operatiivinen leasing | B41: 120000 | C41: ei tasetiliä | D41: 000000 | E41: ei poistoja | F41: Operatiivinen leasing

Sheet KUP_ja_TUY
A1: kustannuspaikka_nimi | B1: kustannuspaikka_id | C1: reports_to_tulosyksikkö_id | D1: tulosyksikkö_nimi
A2: Humanistinen tiedekunta yhteiset | B2: 2400000 | C2: 240000 | D2: Humanistinen tiedekunta
A3: Aate ja oppihistoria | B3: 2400010 | C3: 240000 | D3: Humanistinen tiedekunta
A4: Englantilainen filologia | B4: 2400020 | C4: 240000 | D4: Humanistinen tiedekunta
A5: Germaaninen filologia | B5: 2400030 | C5: 240000 | D5: Humanistinen tiedekunta
A6: Historia | B6: 2400040 | C6: 240000 | D6: Humanistinen tiedekunta
A7: Informaatiotutkimus | B7: 2400050 | C7: 240000 | D7: Humanistinen tiedekunta
A8: Kirjallisuus | B8: 2400060 | C8: 240000 | D8: Humanistinen tiedekunta
A9: Kulttuuriantropologia | B9: 2400070 | C9: 240000 | D9: Humanistinen tiedekunta
A10: Logopedia | B10: 2400080 | C10: 240000 | D10: Humanistinen tiedekunta
A11: Pohjoismainen filologia | B11: 2400090 | C11: 240000 | D11: Humanistinen tiedekunta
A12: Suomen kieli | B12: 2400100 | C12: 240000 | D12: Humanistinen tiedekunta
A13: Yleinen arkeologia | B13: 2400110 | C13: 240000 | D13: Humanistinen tiedekunta
... A242: Dummy kustannuspaikka | B242: 2499999 | C242: 249999 | D242: Dummy tulosyksikkö

Sheet Kustannuspaikka
A1: kustannuspaikka_nimi | B1: kustannuspaikka_id | C1: kustannuspaikka_nimi_2
A2: Humanistinen tiedekunta yhteiset | B2: 2400000 | C2: Humanistinen tiedekunta yhteiset
A3: Aate ja oppihistoria | B3: 2400010 | C3: Aate ja oppihistoria
A4: Englantilainen filologia | B4: 2400020 | C4: Englantilainen filologia
A5: Germaaninen filologia | B5: 2400030 | C5: Germaaninen filologia
A6: Historia | B6: 2400040 | C6: Historia
A7: Informaatiotutkimus | B7: 2400050 | C7: Informaatiotutkimus
A8: Kirjallisuus | B8: 2400060 | C8: Kirjallisuus
A9: Kulttuuriantropologia | B9: 2400070 | C9: Kulttuuriantropologia
A10: Logopedia | B10: 2400080 | C10: Logopedia
A11: Pohjoismainen filologia | B11: 2400090 | C11: Pohjoismainen filologia
A12: Suomen kieli | B12: 2400100 | C12: Suomen kieli
A13: Yleinen arkeologia | B13: 2400110 | C13: Yleinen arkeologia
... A242: Dummy kustannuspaikka | B242: 2499999 | C242: Dummy kustannuspaikka

Sheet Tulosyksikkö
A1: tulosyksikkö_nimi | B1: tulosyksikkö_id | C1: tulosyksikkö_nimi_2
A2: Humanistinen tiedekunta | B2: 240000 | C2: Humanistinen tiedekunta
A3: Giellagas-instituutti | B3: 240020 | C3: Giellagas-instituutti
A4: Kasvatustieteiden tiedekunta yhteiset | B4: 240100 | C4: Kasvatustieteiden tiedekunta yhteiset
A5: Kasvatustieteiden ja opettajankoul. yks. | B5: 240101 | C5: Kasvatustieteiden ja opettajankoul. yks.
A6: Kajaanin opettajankoulutusyksikkö | B6: 240102 | C6: Kajaanin opettajankoulutusyksikkö
A7: Oulun yliopiston harjoittelukoulu | B7: 240150 | C7: Oulun yliopiston harjoittelukoulu
A8: Oulun normaalikoulu, perusaste (0-6) | B8: 240151 | C8: Oulun normaalikoulu, perusaste (0-6)
A9: Oulun norm.koulu, p-aste (7-9) ja lukio | B9: 240152 | C9: Oulun norm.koulu, p-aste (7-9) ja lukio
A10: Kajaanin normaalikoulu | B10: 240154 | C10: Kajaanin normaalikoulu
A11: Luonnontieteellinen tiedekunta yhteiset | B11: 240200 | C11: Luonnontieteellinen tiedekunta yhteiset
A12: Biokemian laitos | B12: 240201 | C12: Biokemian laitos
A13: Biologian laitos | B13: 240202 | C13: Biologian laitos
... A116: Dummy tulosyksikkö | B116: 249999 | C116: Dummy tulosyksikkö

Sheet Hankintakausi
A1: Hankintakausi | B1: kuukausi_nimi
A2: 1/2011 | B2: Tammikuu
A3: 2/2011 | B3: Helmikuu
A4: 3/2011 | B4: Maaliskuu
A5: 4/2011 | B5: Huhtikuu
A6: 5/2011 | B6: Toukokuu
A7: 6/2011 | B7: Kesäkuu
A8: 7/2011 | B8: Heinäkuu
A9: 8/2011 | B9: Elokuu
A10: 9/2011 | B10: Syyskuu
A11: 10/2011 | B11: Lokakuu
A12: 11/2011 | B12: Marraskuu
A13: 12/2011 | B13: Joulukuu
